View In:
ArcGIS JavaScript
ArcGIS Online Map Viewer
ArcGIS Earth
ArcMap
View Footprint In:
ArcGIS Online Map Viewer
Service Description: This image layer features recent high-resolution (1m or better) aerial imagery for the continental United States made available by the USDA Farm Services Agency. The National Agriculture Imagery Program (NAIP) acquires aerial imagery during the agricultural growing seasons in the continental United States. A primary goal of the NAIP program is to make digital ortho photography available to governmental agencies and the public within a year of acquisition. This image layer provides access to the most recent NAIP imagery for each state and will be updated annually as new imagery is made available. This imagery is published in 4-bands (RGB and Near Infrared), where available, with the option to display the imagery as false color to show the IR band or to display the NDVI (Normalized Difference Vegetation Index) showing relative biomass of an area.
Name: NAIP
Description: This image layer features recent high-resolution (1m or better) aerial imagery for the continental United States made available by the USDA Farm Services Agency. The National Agriculture Imagery Program (NAIP) acquires aerial imagery during the agricultural growing seasons in the continental United States. A primary goal of the NAIP program is to make digital ortho photography available to governmental agencies and the public within a year of acquisition. This image layer provides access to the most recent NAIP imagery for each state and will be updated annually as new imagery is made available. This imagery is published in 4-bands (RGB and Near Infrared), where available, with the option to display the imagery as false color to show the IR band or to display the NDVI (Normalized Difference Vegetation Index) showing relative biomass of an area.
Single Fused Map Cache: false
Extent:
XMin: -1.38961627501E7
YMin: 2812729.7641000003
XMax: -7441890.7501
YMax: 6372358.7641
Spatial Reference: 102100
(3857)
Initial Extent:
XMin: -1.38961627501E7
YMin: 2812729.7641000003
XMax: -7441890.7501
YMax: 6372358.7641
Spatial Reference: 102100
(3857)
Full Extent:
XMin: -1.38961627501E7
YMin: 2812729.7641000003
XMax: -7441890.7501
YMax: 6372358.7641
Spatial Reference: 102100
(3857)
Pixel Size X: 0.5
Pixel Size Y: 0.5
Band Count: 4
Pixel Type: U8
RasterFunction Infos: {"rasterFunctionInfos": [
{
"name": "NaturalColor",
"description": "Natural Color bands red, green, blue (1, 2, 3) displayed with fixed stretch.",
"help": ""
},
{
"name": "FalseColorComposite",
"description": "Bands near-infrared, red, green (4, 1, 2) displayed with fixed stretch.",
"help": ""
},
{
"name": "NDVI_Raw",
"description": "Normalized difference vegetation index (NDVI) computed as (b4 - b1) / (b4 + b1) and is suitable for vegetation, land cover and plant health monitoring.",
"help": ""
},
{
"name": "NDVI_Color",
"description": "Normalized difference vegetation index (NDVI) with color map. Dark green is thick vigorous vegetation and brown represents sparse vegetation.",
"help": ""
},
{
"name": "NDWI_Raw",
"description": "The NDWI index is computed as Green(Band02)-NIR(Band04)/ Green(Band02)+NIR(Band04) and is most suitable for mapping of water bodies, droughts, boundary evaluation. Water bodies have strong absorbability and low radiation within the visible to infrared spectral ranges and this index is based on this phenomenon.",
"help": ""
},
{
"name": "None",
"description": "",
"help": ""
}
]}
Mensuration Capabilities: Basic
Has Histograms: false
Has Colormap: false
Has Multi Dimensions : false
Rendering Rule:
Min Scale: 0
Max Scale: 0
Copyright Text: Esri, USDA Farm Service Agency, Microsoft
Service Data Type: esriImageServiceDataTypeProcessed
Min Values: N/A
Max Values: N/A
Mean Values: N/A
Standard Deviation Values: N/A
Object ID Field: OBJECTID
Fields:
-
OBJECTID
(
type: esriFieldTypeOID, alias: OBJECTID
)
-
Shape
(
type: esriFieldTypeGeometry, alias: Shape
)
-
Name
(
type: esriFieldTypeString, alias: Name, length: 200
)
-
MinPS
(
type: esriFieldTypeDouble, alias: MinPS
)
-
MaxPS
(
type: esriFieldTypeDouble, alias: MaxPS
)
-
Category
(
type: esriFieldTypeInteger, alias: Category
,
Coded Values:
[0: Unknown]
,
[1: Primary]
,
[2: Overview]
, ...6 more...
)
-
State
(
type: esriFieldTypeString, alias: State, length: 2
)
-
Year
(
type: esriFieldTypeSmallInteger, alias: Year
)
-
AREA
(
type: esriFieldTypeDouble, alias: AREA
)
-
PERIMETER
(
type: esriFieldTypeDouble, alias: PERIMETER
)
-
ST
(
type: esriFieldTypeString, alias: ST, length: 4
)
-
QQNAME
(
type: esriFieldTypeString, alias: QQNAME, length: 43
)
-
QKEY
(
type: esriFieldTypeString, alias: QKEY, length: 13
)
-
QUADRANT
(
type: esriFieldTypeString, alias: QUADRANT, length: 2
)
-
APFONAME
(
type: esriFieldTypeString, alias: APFONAME, length: 8
)
-
BAND
(
type: esriFieldTypeString, alias: BAND, length: 254
)
-
USGSID
(
type: esriFieldTypeInteger, alias: USGSID
)
-
UTM
(
type: esriFieldTypeInteger, alias: UTM
)
-
SrcImgDate
(
type: esriFieldTypeInteger, alias: SrcImgDate
)
-
VerDate
(
type: esriFieldTypeInteger, alias: VerDate
)
-
FileName
(
type: esriFieldTypeString, alias: FileName, length: 254
)
-
Res
(
type: esriFieldTypeSingle, alias: Res
)
-
AcquisitionDate
(
type: esriFieldTypeDate, alias: AcquisitionDate, length: 8
)
-
Metadata
(
type: esriFieldTypeString, alias: Metadata, length: 256
)
-
GNIS
(
type: esriFieldTypeString, alias: GNIS, length: 7
)
-
DY
(
type: esriFieldTypeString, alias: DY, length: 2
)
-
MY
(
type: esriFieldTypeString, alias: MY, length: 2
)
-
SY
(
type: esriFieldTypeString, alias: SY, length: 2
)
-
DX
(
type: esriFieldTypeString, alias: DX, length: 3
)
-
MX
(
type: esriFieldTypeString, alias: MX, length: 2
)
-
SX
(
type: esriFieldTypeString, alias: SX, length: 2
)
-
OLAT
(
type: esriFieldTypeString, alias: OLAT, length: 6
)
-
OLONG
(
type: esriFieldTypeString, alias: OLONG, length: 7
)
-
ArcKey
(
type: esriFieldTypeString, alias: ArcKey, length: 254
)
-
Qdrnt
(
type: esriFieldTypeString, alias: Qdrnt, length: 254
)
Default Mosaic Method: ByAttribute
Allowed Mosaic Methods: ByAttribute,Center,LockRaster
SortField: Year
SortValue: 3000
Mosaic Operator: First
Default Compression Quality: 90
Default Resampling Method: Bilinear
Max Record Count: 50
Max Image Height: 4000
Max Image Width: 4000
Max Download Image Count: 0
Max Mosaic Image Count: 50
Allow Raster Function: true
Allow Copy: true
Allow Analysis: true
Allow Compute TiePoints: false
Supports Statistics: true
Supports Advanced Queries: true
Use StandardizedQueries: true
Raster Type Infos:
Name: Raster Dataset
Description: Supports all ArcGIS Raster Datasets
Help:
Has Raster Attribute Table: false
Edit Fields Info: null
Ownership Based AccessControl For Rasters: null
Child Resources:
Info
Statistics
Key Properties
Legend
Raster Function Infos
Supported Operations:
Export Image
Query
Identify
Measure
Compute Histograms
Compute Statistics Histograms
Get Samples
Compute Class Statistics
Query Boundary
Compute Pixel Location
Validate
Project