{
 "currentVersion": 10.9,
 "serviceDescription": "This image layer features recent high-resolution (1m or better) aerial imagery for the continental United States made available by the USDA Farm Services Agency. The National Agriculture Imagery Program (NAIP) acquires aerial imagery during the agricultural growing seasons in the continental United States. A primary goal of the NAIP program is to make digital ortho photography available to governmental agencies and the public within a year of acquisition. This image layer provides access to the most recent NAIP imagery for each state and will be updated annually as new imagery is made available. This imagery is published in 4-bands (RGB and Near Infrared), where available, with the option to display the imagery as false color to show the IR band or to display the NDVI (Normalized Difference Vegetation Index) showing relative biomass of an area.\n",
 "name": "NAIP",
 "description": "This image layer features recent high-resolution (1m or better) aerial imagery for the continental United States made available by the USDA Farm Services Agency. The National Agriculture Imagery Program (NAIP) acquires aerial imagery during the agricultural growing seasons in the continental United States. A primary goal of the NAIP program is to make digital ortho photography available to governmental agencies and the public within a year of acquisition. This image layer provides access to the most recent NAIP imagery for each state and will be updated annually as new imagery is made available. This imagery is published in 4-bands (RGB and Near Infrared), where available, with the option to display the imagery as false color to show the IR band or to display the NDVI (Normalized Difference Vegetation Index) showing relative biomass of an area.\n",
 "extent": {
  "xmin": -1.38961627501E7,
  "ymin": 2812729.7641000003,
  "xmax": -7441890.7501,
  "ymax": 6372358.7641,
  "spatialReference": {
   "wkid": 102100,
   "latestWkid": 3857
  }
 },
 "initialExtent": {
  "xmin": -1.38961627501E7,
  "ymin": 2812729.7641000003,
  "xmax": -7441890.7501,
  "ymax": 6372358.7641,
  "spatialReference": {
   "wkid": 102100,
   "latestWkid": 3857
  }
 },
 "fullExtent": {
  "xmin": -1.38961627501E7,
  "ymin": 2812729.7641000003,
  "xmax": -7441890.7501,
  "ymax": 6372358.7641,
  "spatialReference": {
   "wkid": 102100,
   "latestWkid": 3857
  }
 },
 "hasMultidimensions": false,
 "pixelSizeX": 0.5,
 "pixelSizeY": 0.5,
 "datasetFormat": "AMD",
 "uncompressedSize": 367597020561408,
 "blockWidth": 2048,
 "blockHeight": 256,
 "compressionType": "None",
 "bandNames": [
  "Red",
  "Green",
  "Blue",
  "NearInfrared"
 ],
 "allowCopy": true,
 "allowAnalysis": true,
 "bandCount": 4,
 "pixelType": "U8",
 "minPixelSize": 0,
 "maxPixelSize": 0,
 "copyrightText": "Esri, USDA Farm Service Agency, Microsoft",
 "serviceDataType": "esriImageServiceDataTypeProcessed",
 "serviceSourceType": "esriImageServiceSourceTypeMosaicDataset",
 "minValues": [],
 "maxValues": [],
 "meanValues": [],
 "stdvValues": [],
 "objectIdField": "OBJECTID",
 "fields": [
  {
   "name": "OBJECTID",
   "type": "esriFieldTypeOID",
   "alias": "OBJECTID",
   "domain": null
  },
  {
   "name": "Shape",
   "type": "esriFieldTypeGeometry",
   "alias": "Shape",
   "domain": null
  },
  {
   "name": "Name",
   "type": "esriFieldTypeString",
   "alias": "Name",
   "domain": null,
   "length": 200
  },
  {
   "name": "MinPS",
   "type": "esriFieldTypeDouble",
   "alias": "MinPS",
   "domain": null
  },
  {
   "name": "MaxPS",
   "type": "esriFieldTypeDouble",
   "alias": "MaxPS",
   "domain": null
  },
  {
   "name": "Category",
   "type": "esriFieldTypeInteger",
   "alias": "Category",
   "domain": {
    "type": "codedValue",
    "name": "MosaicCatalogItemCategoryDomain",
    "description": "Catalog item categories.",
    "codedValues": [
     {
      "name": "Unknown",
      "code": 0
     },
     {
      "name": "Primary",
      "code": 1
     },
     {
      "name": "Overview",
      "code": 2
     },
     {
      "name": "Unprocessed Overview",
      "code": 3
     },
     {
      "name": "Partial Overview",
      "code": 4
     },
     {
      "name": "Inactive",
      "code": 5
     },
     {
      "name": "Uploaded",
      "code": 253
     },
     {
      "name": "Incomplete",
      "code": 254
     },
     {
      "name": "Custom",
      "code": 255
     }
    ],
    "mergePolicy": "esriMPTDefaultValue",
    "splitPolicy": "esriSPTDefaultValue"
   }
  },
  {
   "name": "State",
   "type": "esriFieldTypeString",
   "alias": "State",
   "domain": null,
   "length": 2
  },
  {
   "name": "Year",
   "type": "esriFieldTypeSmallInteger",
   "alias": "Year",
   "domain": null
  },
  {
   "name": "AREA",
   "type": "esriFieldTypeDouble",
   "alias": "AREA",
   "domain": null
  },
  {
   "name": "PERIMETER",
   "type": "esriFieldTypeDouble",
   "alias": "PERIMETER",
   "domain": null
  },
  {
   "name": "ST",
   "type": "esriFieldTypeString",
   "alias": "ST",
   "domain": null,
   "length": 4
  },
  {
   "name": "QQNAME",
   "type": "esriFieldTypeString",
   "alias": "QQNAME",
   "domain": null,
   "length": 43
  },
  {
   "name": "QKEY",
   "type": "esriFieldTypeString",
   "alias": "QKEY",
   "domain": null,
   "length": 13
  },
  {
   "name": "QUADRANT",
   "type": "esriFieldTypeString",
   "alias": "QUADRANT",
   "domain": null,
   "length": 2
  },
  {
   "name": "APFONAME",
   "type": "esriFieldTypeString",
   "alias": "APFONAME",
   "domain": null,
   "length": 8
  },
  {
   "name": "BAND",
   "type": "esriFieldTypeString",
   "alias": "BAND",
   "domain": null,
   "length": 254
  },
  {
   "name": "USGSID",
   "type": "esriFieldTypeInteger",
   "alias": "USGSID",
   "domain": null
  },
  {
   "name": "UTM",
   "type": "esriFieldTypeInteger",
   "alias": "UTM",
   "domain": null
  },
  {
   "name": "SrcImgDate",
   "type": "esriFieldTypeInteger",
   "alias": "SrcImgDate",
   "domain": null
  },
  {
   "name": "VerDate",
   "type": "esriFieldTypeInteger",
   "alias": "VerDate",
   "domain": null
  },
  {
   "name": "FileName",
   "type": "esriFieldTypeString",
   "alias": "FileName",
   "domain": null,
   "length": 254
  },
  {
   "name": "Res",
   "type": "esriFieldTypeSingle",
   "alias": "Res",
   "domain": null
  },
  {
   "name": "AcquisitionDate",
   "type": "esriFieldTypeDate",
   "alias": "AcquisitionDate",
   "domain": null,
   "length": 8
  },
  {
   "name": "Metadata",
   "type": "esriFieldTypeString",
   "alias": "Metadata",
   "domain": null,
   "length": 256
  },
  {
   "name": "GNIS",
   "type": "esriFieldTypeString",
   "alias": "GNIS",
   "domain": null,
   "length": 7
  },
  {
   "name": "DY",
   "type": "esriFieldTypeString",
   "alias": "DY",
   "domain": null,
   "length": 2
  },
  {
   "name": "MY",
   "type": "esriFieldTypeString",
   "alias": "MY",
   "domain": null,
   "length": 2
  },
  {
   "name": "SY",
   "type": "esriFieldTypeString",
   "alias": "SY",
   "domain": null,
   "length": 2
  },
  {
   "name": "DX",
   "type": "esriFieldTypeString",
   "alias": "DX",
   "domain": null,
   "length": 3
  },
  {
   "name": "MX",
   "type": "esriFieldTypeString",
   "alias": "MX",
   "domain": null,
   "length": 2
  },
  {
   "name": "SX",
   "type": "esriFieldTypeString",
   "alias": "SX",
   "domain": null,
   "length": 2
  },
  {
   "name": "OLAT",
   "type": "esriFieldTypeString",
   "alias": "OLAT",
   "domain": null,
   "length": 6
  },
  {
   "name": "OLONG",
   "type": "esriFieldTypeString",
   "alias": "OLONG",
   "domain": null,
   "length": 7
  },
  {
   "name": "ArcKey",
   "type": "esriFieldTypeString",
   "alias": "ArcKey",
   "domain": null,
   "length": 254
  },
  {
   "name": "Qdrnt",
   "type": "esriFieldTypeString",
   "alias": "Qdrnt",
   "domain": null,
   "length": 254
  }
 ],
 "capabilities": "Catalog,Image,Mensuration,Metadata,Pixels",
 "defaultMosaicMethod": "ByAttribute",
 "allowedMosaicMethods": "ByAttribute,Center,LockRaster",
 "sortField": "Year",
 "sortValue": "3000",
 "sortAscending": true,
 "mosaicOperator": "First",
 "maxDownloadSizeLimit": 2048,
 "defaultCompressionQuality": 90,
 "defaultResamplingMethod": "Bilinear",
 "maxImageHeight": 4000,
 "maxImageWidth": 4000,
 "maxRecordCount": 50,
 "maxDownloadImageCount": 0,
 "maxMosaicImageCount": 50,
 "allowRasterFunction": true,
 "rasterFunctionInfos": [
  {
   "name": "NaturalColor",
   "description": "Natural Color bands red, green, blue (1, 2, 3) displayed with fixed stretch.",
   "help": ""
  },
  {
   "name": "FalseColorComposite",
   "description": "Bands near-infrared, red, green (4, 1, 2) displayed with fixed stretch.",
   "help": ""
  },
  {
   "name": "NDVI_Raw",
   "description": "Normalized difference vegetation index (NDVI) computed as (b4 - b1) / (b4 + b1) and is suitable for vegetation, land cover and plant health monitoring.",
   "help": ""
  },
  {
   "name": "NDVI_Color",
   "description": "Normalized difference vegetation index (NDVI) with color map. Dark green is thick vigorous vegetation and brown represents sparse vegetation.",
   "help": ""
  },
  {
   "name": "NDWI_Raw",
   "description": "The NDWI index is computed as Green(Band02)-NIR(Band04)/ Green(Band02)+NIR(Band04) and is most suitable for mapping of water bodies, droughts, boundary evaluation. Water bodies have strong absorbability and low radiation within the visible to infrared spectral ranges and this index is based on this phenomenon.",
   "help": ""
  },
  {
   "name": "None",
   "description": "",
   "help": ""
  }
 ],
 "rasterTypeInfos": [
  {
   "name": "Raster Dataset",
   "description": "Supports all ArcGIS Raster Datasets",
   "help": ""
  }
 ],
 "mensurationCapabilities": "Basic",
 "hasHistograms": false,
 "hasColormap": false,
 "hasRasterAttributeTable": false,
 "minScale": 0,
 "maxScale": 0,
 "exportTilesAllowed": false,
 "supportsStatistics": true,
 "supportsAdvancedQueries": true,
 "editFieldsInfo": null,
 "ownershipBasedAccessControlForRasters": null,
 "allowComputeTiePoints": false,
 "useStandardizedQueries": true,
 "advancedQueryCapabilities": {
  "useStandardizedQueries": true,
  "supportsStatistics": true,
  "supportsOrderBy": true,
  "supportsDistinct": true,
  "supportsPagination": true
 },
 "spatialReference": {
  "wkid": 102100,
  "latestWkid": 3857
 }
}
